1.5625
0
0
-1.5625
132192.839024
461310.761913
