1.5625
0
0
-1.5625
68184.8900236
403501.164283
