1.5625
0
0
-1.5625
43340.3060236
431191.866476
