1.5625
0
0
-1.5625
185168.823024
555384.795402
