1.5625
0
0
-1.5625
45686.4180236
383796.047374
