1.5625
0
0
-1.5625
275416.814024
580008.537228
