1.5625
0
0
-1.5625
55059.5600236
407402.855287
