1.5625
0
0
-1.5625
181822.422024
550831.966547
