1.5625
0
0
-1.5625
265248.464024
476368.39722
