1.5625
0
0
-1.5625
173707.194024
421919.016689
