1.5625
0
0
-1.5625
194295.847024
537768.813449
