1.5625
0
0
-1.5625
167734.143024
581700.002323
