1.5625
0
0
-1.5625
87011.3060236
452076.831551
