1.5625
0
0
-1.5625
128006.764024
426218.294122
