1.5625
0
0
-1.5625
126770.061024
501169.845906
