1.5625
0
0
-1.5625
160617.130024
478699.497047
