1.5625
0
0
-1.5625
119811.912024
415004.150933
