1.5625
0
0
-1.5625
228431.222024
600654.910244
