1.5625
0
0
-1.5625
243579.989024
460201.276953
