1.5625
0
0
-1.5625
177108.422024
448344.732717
