1.5625
0
0
-1.5625
187004.894024
434771.898961
