1.5625
0
0
-1.5625
230444.596024
512386.161319
