1.5625
0
0
-1.5625
136938.863024
436896.506504
