1.5625
0
0
-1.5625
225066.923024
578975.38663
