1.5625
0
0
-1.5625
150879.186024
419594.198492
