1.5625
0
0
-1.5625
87497.9900236
432309.738138
