1.5625
0
0
-1.5625
202659.317024
518079.351697
