1.5625
0
0
-1.5625
222945.777024
594388.925453
