1.5625
0
0
-1.5625
194896.848024
534837.57787
