1.5625
0
0
-1.5625
187020.847024
329994.107248
