1.5625
0
0
-1.5625
102483.276024
530693.838091
