1.5625
0
0
-1.5625
267393.895024
557209.026228
