1.5625
0
0
-1.5625
247438.556024
534570.370768
