1.5625
0
0
-1.5625
121719.615024
427078.197098
