1.5625
0
0
-1.5625
43514.0380236
370856.214035
