1.5625
0
0
-1.5625
195325.446024
398425.692724
