1.5625
0
0
-1.5625
146916.663024
461157.096358
