1.5625
0
0
-1.5625
97782.9580236
397517.698386
