1.5625
0
0
-1.5625
88147.2270236
403884.993776
