1.5625
0
0
-1.5625
113323.626024
508214.336575
