1.5625
0
0
-1.5625
241513.056024
601235.255394
