1.5625
0
0
-1.5625
184885.814024
351414.622953
