1.5625
0
0
-1.5625
109029.267024
437818.038362
