1.5625
0
0
-1.5625
194889.974024
579234.890142
