0.625
0.0
0.0
-0.625
120000.3125
593749.6875
