0.625
0.0
0.0
-0.625
180000.3125
581249.6875
