0.625
0.0
0.0
-0.625
120000.3125
568749.6875
