0.625
0.0
0.0
-0.625
150000.3125
537499.6875
