0.625
0.0
0.0
-0.625
220000.3125
549999.6875
