0.625
0.0
0.0
-0.625
100000.3125
512499.6875
